BEGIN:VCALENDAR
VERSION:2.0
PRODID:-//Waterside School - ECPv6.15.20//NONSGML v1.0//EN
CALSCALE:GREGORIAN
METHOD:PUBLISH
X-WR-CALNAME:Waterside School
X-ORIGINAL-URL:https://www.watersideschool.org
X-WR-CALDESC:Events for Waterside School
REFRESH-INTERVAL;VALUE=DURATION:PT1H
X-Robots-Tag:noindex
X-PUBLISHED-TTL:PT1H
BEGIN:VTIMEZONE
TZID:America/New_York
BEGIN:DAYLIGHT
TZOFFSETFROM:-0500
TZOFFSETTO:-0400
TZNAME:EDT
DTSTART:20230312T070000
END:DAYLIGHT
BEGIN:STANDARD
TZOFFSETFROM:-0400
TZOFFSETTO:-0500
TZNAME:EST
DTSTART:20231105T060000
END:STANDARD
BEGIN:DAYLIGHT
TZOFFSETFROM:-0500
TZOFFSETTO:-0400
TZNAME:EDT
DTSTART:20240310T070000
END:DAYLIGHT
BEGIN:STANDARD
TZOFFSETFROM:-0400
TZOFFSETTO:-0500
TZNAME:EST
DTSTART:20241103T060000
END:STANDARD
BEGIN:DAYLIGHT
TZOFFSETFROM:-0500
TZOFFSETTO:-0400
TZNAME:EDT
DTSTART:20250309T070000
END:DAYLIGHT
BEGIN:STANDARD
TZOFFSETFROM:-0400
TZOFFSETTO:-0500
TZNAME:EST
DTSTART:20251102T060000
END:STANDARD
END:VTIMEZONE
BEGIN:VEVENT
DTSTART;TZID=America/New_York:20240404T073000
DTEND;TZID=America/New_York:20240404T080500
DTSTAMP:20260423T103845
CREATED:20240328T200929Z
LAST-MODIFIED:20240328T200929Z
UID:3530-1712215800-1712217900@www.watersideschool.org
SUMMARY:4th & 5th Grade Science Fair
DESCRIPTION:In the Library
URL:https://www.watersideschool.org/event/4th-5th-grade-science-fair/
END:VEVENT
BEGIN:VEVENT
DTSTART;TZID=America/New_York:20240404T130000
DTEND;TZID=America/New_York:20240404T150000
DTSTAMP:20260423T103845
CREATED:20231222T193442Z
LAST-MODIFIED:20231222T193442Z
UID:3398-1712235600-1712242800@www.watersideschool.org
SUMMARY:1B Swimming
DESCRIPTION:
URL:https://www.watersideschool.org/event/1b-swimming-7/
END:VEVENT
END:VCALENDAR