BEGIN:VCALENDAR
VERSION:2.0
PRODID:-//Waterside School - ECPv6.15.20//NONSGML v1.0//EN
CALSCALE:GREGORIAN
METHOD:PUBLISH
X-WR-CALNAME:Waterside School
X-ORIGINAL-URL:https://www.watersideschool.org
X-WR-CALDESC:Events for Waterside School
REFRESH-INTERVAL;VALUE=DURATION:PT1H
X-Robots-Tag:noindex
X-PUBLISHED-TTL:PT1H
BEGIN:VTIMEZONE
TZID:America/New_York
BEGIN:DAYLIGHT
TZOFFSETFROM:-0500
TZOFFSETTO:-0400
TZNAME:EDT
DTSTART:20230312T070000
END:DAYLIGHT
BEGIN:STANDARD
TZOFFSETFROM:-0400
TZOFFSETTO:-0500
TZNAME:EST
DTSTART:20231105T060000
END:STANDARD
BEGIN:DAYLIGHT
TZOFFSETFROM:-0500
TZOFFSETTO:-0400
TZNAME:EDT
DTSTART:20240310T070000
END:DAYLIGHT
BEGIN:STANDARD
TZOFFSETFROM:-0400
TZOFFSETTO:-0500
TZNAME:EST
DTSTART:20241103T060000
END:STANDARD
BEGIN:DAYLIGHT
TZOFFSETFROM:-0500
TZOFFSETTO:-0400
TZNAME:EDT
DTSTART:20250309T070000
END:DAYLIGHT
BEGIN:STANDARD
TZOFFSETFROM:-0400
TZOFFSETTO:-0500
TZNAME:EST
DTSTART:20251102T060000
END:STANDARD
END:VTIMEZONE
BEGIN:VEVENT
DTSTART;TZID=America/New_York:20240325T160000
DTEND;TZID=America/New_York:20240325T173000
DTSTAMP:20260419T185236
CREATED:20240108T161832Z
LAST-MODIFIED:20240108T161832Z
UID:3448-1711382400-1711387800@www.watersideschool.org
SUMMARY:'Side Notes 4th - 5th Grade
DESCRIPTION:
URL:https://www.watersideschool.org/event/side-notes-4th-5th-grade-24/
END:VEVENT
BEGIN:VEVENT
DTSTART;VALUE=DATE:20240314
DTEND;VALUE=DATE:20240325
DTSTAMP:20260419T185236
CREATED:20230705T192721Z
LAST-MODIFIED:20230705T192721Z
UID:2979-1710374400-1711324799@www.watersideschool.org
SUMMARY:NO SCHOOL Spring Break
DESCRIPTION:
URL:https://www.watersideschool.org/event/no-school-spring-break-13/
END:VEVENT
BEGIN:VEVENT
DTSTART;TZID=America/New_York:20240313T183000
DTEND;TZID=America/New_York:20240313T193000
DTSTAMP:20260419T185236
CREATED:20230705T183731Z
LAST-MODIFIED:20230705T183900Z
UID:2978-1710354600-1710358200@www.watersideschool.org
SUMMARY:Acoustic Night 4th & 5th Grades
DESCRIPTION:
URL:https://www.watersideschool.org/event/acoustic-night-4th-5th-grades-2/
END:VEVENT
BEGIN:VEVENT
DTSTART;TZID=America/New_York:20240311T160000
DTEND;TZID=America/New_York:20240311T173000
DTSTAMP:20260419T185236
CREATED:20240108T161807Z
LAST-MODIFIED:20240108T161807Z
UID:3447-1710172800-1710178200@www.watersideschool.org
SUMMARY:'Side Notes 4th - 5th Grade
DESCRIPTION:
URL:https://www.watersideschool.org/event/side-notes-4th-5th-grade-23/
END:VEVENT
BEGIN:VEVENT
DTSTART;TZID=America/New_York:20240310T161500
DTEND;TZID=America/New_York:20240311T173000
DTSTAMP:20260419T185236
CREATED:20231222T183550Z
LAST-MODIFIED:20231222T183550Z
UID:3353-1710087300-1710178200@www.watersideschool.org
SUMMARY:The Waterside Zine   Grades 2 - 5
DESCRIPTION:
URL:https://www.watersideschool.org/event/the-waterside-zine-grades-2-5-8/
END:VEVENT
BEGIN:VEVENT
DTSTART;TZID=America/New_York:20240308T170000
DTEND;TZID=America/New_York:20240308T190000
DTSTAMP:20260419T185236
CREATED:20230705T183543Z
LAST-MODIFIED:20230705T183543Z
UID:2977-1709917200-1709924400@www.watersideschool.org
SUMMARY:Pizza Bingo Night
DESCRIPTION:
URL:https://www.watersideschool.org/event/pizza-bingo-night-2/
END:VEVENT
BEGIN:VEVENT
DTSTART;TZID=America/New_York:20240308T160000
DTEND;TZID=America/New_York:20240308T173000
DTSTAMP:20260419T185236
CREATED:20240108T162226Z
LAST-MODIFIED:20240108T162226Z
UID:3456-1709913600-1709919000@www.watersideschool.org
SUMMARY:'Side Notes 4th - 5th Grade
DESCRIPTION:
URL:https://www.watersideschool.org/event/side-notes-4th-5th-grade-32/
END:VEVENT
BEGIN:VEVENT
DTSTART;TZID=America/New_York:20240308T080000
DTEND;TZID=America/New_York:20240308T083000
DTSTAMP:20260419T185236
CREATED:20240123T144458Z
LAST-MODIFIED:20240123T144458Z
UID:3477-1709884800-1709886600@www.watersideschool.org
SUMMARY:Dress Down Day  NO Hot Breakfast
DESCRIPTION:
URL:https://www.watersideschool.org/event/dress-down-day-no-hot-breakfast/
END:VEVENT
BEGIN:VEVENT
DTSTART;TZID=America/New_York:20240307T161500
DTEND;TZID=America/New_York:20240307T173000
DTSTAMP:20260419T185236
CREATED:20240108T161007Z
LAST-MODIFIED:20240108T161007Z
UID:3443-1709828100-1709832600@www.watersideschool.org
SUMMARY:Waterside Team Dance Grades 2 - 5
DESCRIPTION:
URL:https://www.watersideschool.org/event/waterside-team-dance-grades-2-5-9/
END:VEVENT
BEGIN:VEVENT
DTSTART;TZID=America/New_York:20240307T130000
DTEND;TZID=America/New_York:20240307T150000
DTSTAMP:20260419T185236
CREATED:20231222T193133Z
LAST-MODIFIED:20231222T193133Z
UID:3396-1709816400-1709823600@www.watersideschool.org
SUMMARY:1B Swimming
DESCRIPTION:
URL:https://www.watersideschool.org/event/1b-swimming-5/
END:VEVENT
BEGIN:VEVENT
DTSTART;TZID=America/New_York:20240306T161500
DTEND;TZID=America/New_York:20240306T173000
DTSTAMP:20260419T185236
CREATED:20240108T154030Z
LAST-MODIFIED:20240108T154030Z
UID:3435-1709741700-1709746200@www.watersideschool.org
SUMMARY:Arts\, Crafts & More Club
DESCRIPTION:
URL:https://www.watersideschool.org/event/arts-crafts-more-club-7/
END:VEVENT
BEGIN:VEVENT
DTSTART;TZID=America/New_York:20240306T160000
DTEND;TZID=America/New_York:20240306T173000
DTSTAMP:20260419T185236
CREATED:20231222T184036Z
LAST-MODIFIED:20231222T184036Z
UID:3362-1709740800-1709746200@www.watersideschool.org
SUMMARY:Musical   Grades 3 - 5
DESCRIPTION:
URL:https://www.watersideschool.org/event/musical-grades-3-5-9/
END:VEVENT
BEGIN:VEVENT
DTSTART;TZID=America/New_York:20240305T161500
DTEND;TZID=America/New_York:20240305T173000
DTSTAMP:20260419T185236
CREATED:20240108T153842Z
LAST-MODIFIED:20240108T153842Z
UID:3432-1709655300-1709659800@www.watersideschool.org
SUMMARY:Arts\, Crafts & More Club
DESCRIPTION:
URL:https://www.watersideschool.org/event/arts-crafts-more-club-4/
END:VEVENT
BEGIN:VEVENT
DTSTART;TZID=America/New_York:20240305T130000
DTEND;TZID=America/New_York:20240305T150000
DTSTAMP:20260419T185236
CREATED:20231222T190041Z
LAST-MODIFIED:20231222T190041Z
UID:3388-1709643600-1709650800@www.watersideschool.org
SUMMARY:1A Swimming
DESCRIPTION:
URL:https://www.watersideschool.org/event/1a-swimming-5/
END:VEVENT
BEGIN:VEVENT
DTSTART;TZID=America/New_York:20240304T161500
DTEND;TZID=America/New_York:20240304T173000
DTSTAMP:20260419T185236
CREATED:20240123T153210Z
LAST-MODIFIED:20240123T153210Z
UID:3480-1709568900-1709573400@www.watersideschool.org
SUMMARY:Lego Club Grades JK - 5
DESCRIPTION:
URL:https://www.watersideschool.org/event/lego-club-grades-jk-5-5/
END:VEVENT
BEGIN:VEVENT
DTSTART;TZID=America/New_York:20240304T161500
DTEND;TZID=America/New_York:20240304T173000
DTSTAMP:20260419T185236
CREATED:20240108T160413Z
LAST-MODIFIED:20240108T160413Z
UID:3438-1709568900-1709573400@www.watersideschool.org
SUMMARY:Zumba Grades JK - 1
DESCRIPTION:
URL:https://www.watersideschool.org/event/zumba-grades-jk-1-13/
END:VEVENT
BEGIN:VEVENT
DTSTART;TZID=America/New_York:20240304T161500
DTEND;TZID=America/New_York:20240304T173000
DTSTAMP:20260419T185236
CREATED:20231222T183522Z
LAST-MODIFIED:20231222T183522Z
UID:3352-1709568900-1709573400@www.watersideschool.org
SUMMARY:The Waterside Zine   Grades 2 - 5
DESCRIPTION:
URL:https://www.watersideschool.org/event/the-waterside-zine-grades-2-5-7/
END:VEVENT
BEGIN:VEVENT
DTSTART;TZID=America/New_York:20240304T160000
DTEND;TZID=America/New_York:20240304T173000
DTSTAMP:20260419T185236
CREATED:20240108T161308Z
LAST-MODIFIED:20240108T161309Z
UID:3446-1709568000-1709573400@www.watersideschool.org
SUMMARY:'Side Notes 4th - 5th Grade
DESCRIPTION:
URL:https://www.watersideschool.org/event/side-notes-4th-5th-grade-22/
END:VEVENT
BEGIN:VEVENT
DTSTART;TZID=America/New_York:20240301T150000
DTEND;TZID=America/New_York:20240301T160000
DTSTAMP:20260419T185236
CREATED:20240123T145336Z
LAST-MODIFIED:20240123T153121Z
UID:3479-1709305200-1709308800@www.watersideschool.org
SUMMARY:5th Grade vs. Faculty Basketball Game
DESCRIPTION:Waterside Gym
URL:https://www.watersideschool.org/event/5th-grade-vs-faculty-basketball-game-2/
END:VEVENT
BEGIN:VEVENT
DTSTART;TZID=America/New_York:20240229T183000
DTEND;TZID=America/New_York:20240229T193000
DTSTAMP:20260419T185236
CREATED:20240123T144404Z
LAST-MODIFIED:20240123T144404Z
UID:3476-1709231400-1709235000@www.watersideschool.org
SUMMARY:Acoustic Night 4th & 5th Grades
DESCRIPTION:
URL:https://www.watersideschool.org/event/acoustic-night-4th-5th-grades-3/
END:VEVENT
BEGIN:VEVENT
DTSTART;TZID=America/New_York:20240229T161500
DTEND;TZID=America/New_York:20240229T173000
DTSTAMP:20260419T185236
CREATED:20240108T160922Z
LAST-MODIFIED:20240108T160922Z
UID:3442-1709223300-1709227800@www.watersideschool.org
SUMMARY:Waterside Team Dance Grades 2 - 5
DESCRIPTION:
URL:https://www.watersideschool.org/event/waterside-team-dance-grades-2-5-8/
END:VEVENT
BEGIN:VEVENT
DTSTART;TZID=America/New_York:20240229T130000
DTEND;TZID=America/New_York:20240229T150000
DTSTAMP:20260419T185236
CREATED:20231222T193108Z
LAST-MODIFIED:20231222T193108Z
UID:3395-1709211600-1709218800@www.watersideschool.org
SUMMARY:1B Swimming
DESCRIPTION:
URL:https://www.watersideschool.org/event/1b-swimming-4/
END:VEVENT
BEGIN:VEVENT
DTSTART;TZID=America/New_York:20240228T161500
DTEND;TZID=America/New_York:20240228T173000
DTSTAMP:20260419T185236
CREATED:20240108T153943Z
LAST-MODIFIED:20240108T153943Z
UID:3434-1709136900-1709141400@www.watersideschool.org
SUMMARY:Arts\, Crafts & More Club
DESCRIPTION:
URL:https://www.watersideschool.org/event/arts-crafts-more-club-6/
END:VEVENT
BEGIN:VEVENT
DTSTART;TZID=America/New_York:20240228T160000
DTEND;TZID=America/New_York:20240228T173000
DTSTAMP:20260419T185236
CREATED:20231222T184013Z
LAST-MODIFIED:20231222T184013Z
UID:3361-1709136000-1709141400@www.watersideschool.org
SUMMARY:Musical   Grades 3 - 5
DESCRIPTION:
URL:https://www.watersideschool.org/event/musical-grades-3-5-8/
END:VEVENT
BEGIN:VEVENT
DTSTART;TZID=America/New_York:20240227T163000
DTEND;TZID=America/New_York:20240227T180000
DTSTAMP:20260419T185236
CREATED:20240215T190145Z
LAST-MODIFIED:20240215T190145Z
UID:3499-1709051400-1709056800@www.watersideschool.org
SUMMARY:Boys Basketball Game vs. Stamford Boys & Girls Club
DESCRIPTION:@Waterside School
URL:https://www.watersideschool.org/event/boys-basketball-game-vs-stamford-boys-girls-club-2/
END:VEVENT
BEGIN:VEVENT
DTSTART;TZID=America/New_York:20240227T163000
DTEND;TZID=America/New_York:20240227T173000
DTSTAMP:20260419T185236
CREATED:20240208T175047Z
LAST-MODIFIED:20240208T175047Z
UID:3496-1709051400-1709055000@www.watersideschool.org
SUMMARY:Boys Basketball Game vs. Stamford Boys & Girls Club
DESCRIPTION:@ Waterside School
URL:https://www.watersideschool.org/event/boys-basketball-game-vs-stamford-boys-girls-club/
END:VEVENT
BEGIN:VEVENT
DTSTART;TZID=America/New_York:20240227T161500
DTEND;TZID=America/New_York:20240227T173000
DTSTAMP:20260419T185236
CREATED:20240108T153809Z
LAST-MODIFIED:20240108T153809Z
UID:3431-1709050500-1709055000@www.watersideschool.org
SUMMARY:Arts\, Crafts & More Club
DESCRIPTION:
URL:https://www.watersideschool.org/event/arts-crafts-more-club-3/
END:VEVENT
BEGIN:VEVENT
DTSTART;TZID=America/New_York:20240227T130000
DTEND;TZID=America/New_York:20240227T150000
DTSTAMP:20260419T185236
CREATED:20231222T190016Z
LAST-MODIFIED:20231222T190016Z
UID:3387-1709038800-1709046000@www.watersideschool.org
SUMMARY:1A Swimming
DESCRIPTION:
URL:https://www.watersideschool.org/event/1a-swimming-4/
END:VEVENT
BEGIN:VEVENT
DTSTART;TZID=America/New_York:20240226T161500
DTEND;TZID=America/New_York:20240226T173000
DTSTAMP:20260419T185236
CREATED:20240108T160315Z
LAST-MODIFIED:20240108T160315Z
UID:3437-1708964100-1708968600@www.watersideschool.org
SUMMARY:Zumba Grades JK - 1
DESCRIPTION:
URL:https://www.watersideschool.org/event/zumba-grades-jk-1-12/
END:VEVENT
BEGIN:VEVENT
DTSTART;TZID=America/New_York:20240226T161500
DTEND;TZID=America/New_York:20240226T173000
DTSTAMP:20260419T185236
CREATED:20231222T183453Z
LAST-MODIFIED:20231222T183453Z
UID:3351-1708964100-1708968600@www.watersideschool.org
SUMMARY:The Waterside Zine   Grades 2 - 5
DESCRIPTION:
URL:https://www.watersideschool.org/event/the-waterside-zine-grades-2-5-6/
END:VEVENT
END:VCALENDAR