BEGIN:VCALENDAR
VERSION:2.0
PRODID:-//Waterside School - ECPv6.15.20//NONSGML v1.0//EN
CALSCALE:GREGORIAN
METHOD:PUBLISH
X-WR-CALNAME:Waterside School
X-ORIGINAL-URL:https://www.watersideschool.org
X-WR-CALDESC:Events for Waterside School
REFRESH-INTERVAL;VALUE=DURATION:PT1H
X-Robots-Tag:noindex
X-PUBLISHED-TTL:PT1H
BEGIN:VTIMEZONE
TZID:America/New_York
BEGIN:DAYLIGHT
TZOFFSETFROM:-0500
TZOFFSETTO:-0400
TZNAME:EDT
DTSTART:20230312T070000
END:DAYLIGHT
BEGIN:STANDARD
TZOFFSETFROM:-0400
TZOFFSETTO:-0500
TZNAME:EST
DTSTART:20231105T060000
END:STANDARD
BEGIN:DAYLIGHT
TZOFFSETFROM:-0500
TZOFFSETTO:-0400
TZNAME:EDT
DTSTART:20240310T070000
END:DAYLIGHT
BEGIN:STANDARD
TZOFFSETFROM:-0400
TZOFFSETTO:-0500
TZNAME:EST
DTSTART:20241103T060000
END:STANDARD
BEGIN:DAYLIGHT
TZOFFSETFROM:-0500
TZOFFSETTO:-0400
TZNAME:EDT
DTSTART:20250309T070000
END:DAYLIGHT
BEGIN:STANDARD
TZOFFSETFROM:-0400
TZOFFSETTO:-0500
TZNAME:EST
DTSTART:20251102T060000
END:STANDARD
END:VTIMEZONE
BEGIN:VEVENT
DTSTART;TZID=America/New_York:20240203T090000
DTEND;TZID=America/New_York:20240203T101500
DTSTAMP:20260419T151231
CREATED:20231113T164123Z
LAST-MODIFIED:20240102T162348Z
UID:3269-1706950800-1706955300@www.watersideschool.org
SUMMARY:Basketball Clinic  Grades K - 1
DESCRIPTION:
URL:https://www.watersideschool.org/event/basketball-clinic-grades-k-1-4/
END:VEVENT
BEGIN:VEVENT
DTSTART;TZID=America/New_York:20240203T103000
DTEND;TZID=America/New_York:20240203T114500
DTSTAMP:20260419T151231
CREATED:20231113T164458Z
LAST-MODIFIED:20240102T162435Z
UID:3276-1706956200-1706960700@www.watersideschool.org
SUMMARY:Basketball Clinic  Grades 2 - 5
DESCRIPTION:
URL:https://www.watersideschool.org/event/basketball-clinic-grades-2-5-4/
END:VEVENT
BEGIN:VEVENT
DTSTART;TZID=America/New_York:20240205T161500
DTEND;TZID=America/New_York:20240205T173000
DTSTAMP:20260419T151231
CREATED:20231222T183321Z
LAST-MODIFIED:20231222T183321Z
UID:3349-1707149700-1707154200@www.watersideschool.org
SUMMARY:The Waterside Zine   Grades 2 - 5
DESCRIPTION:
URL:https://www.watersideschool.org/event/the-waterside-zine-grades-2-5-4/
END:VEVENT
BEGIN:VEVENT
DTSTART;TZID=America/New_York:20240205T161500
DTEND;TZID=America/New_York:20240205T173000
DTSTAMP:20260419T151231
CREATED:20240102T192128Z
LAST-MODIFIED:20240102T192128Z
UID:3413-1707149700-1707154200@www.watersideschool.org
SUMMARY:Lego Club Grades JK - 5
DESCRIPTION:
URL:https://www.watersideschool.org/event/lego-club-grades-jk-5-4/
END:VEVENT
BEGIN:VEVENT
DTSTART;TZID=America/New_York:20240205T161500
DTEND;TZID=America/New_York:20240205T173000
DTSTAMP:20260419T151231
CREATED:20240102T192638Z
LAST-MODIFIED:20240102T192638Z
UID:3418-1707149700-1707154200@www.watersideschool.org
SUMMARY:Zumba Grades JK - 1
DESCRIPTION:
URL:https://www.watersideschool.org/event/zumba-grades-jk-1-4/
END:VEVENT
BEGIN:VEVENT
DTSTART;TZID=America/New_York:20240205T161500
DTEND;TZID=America/New_York:20240205T173000
DTSTAMP:20260419T151231
CREATED:20240102T194900Z
LAST-MODIFIED:20240102T194900Z
UID:3425-1707149700-1707154200@www.watersideschool.org
SUMMARY:'Side Notes  4th - 5th Grade
DESCRIPTION:
URL:https://www.watersideschool.org/event/side-notes-4th-5th-grade-19/
END:VEVENT
BEGIN:VEVENT
DTSTART;TZID=America/New_York:20240206T130000
DTEND;TZID=America/New_York:20240206T150000
DTSTAMP:20260419T151231
CREATED:20231222T185924Z
LAST-MODIFIED:20231222T185924Z
UID:3385-1707224400-1707231600@www.watersideschool.org
SUMMARY:1A Swimming
DESCRIPTION:
URL:https://www.watersideschool.org/event/1a-swimming-2/
END:VEVENT
BEGIN:VEVENT
DTSTART;TZID=America/New_York:20240206T153000
DTEND;TZID=America/New_York:20240206T173000
DTSTAMP:20260419T151231
CREATED:20231106T212235Z
LAST-MODIFIED:20240123T145216Z
UID:3248-1707233400-1707240600@www.watersideschool.org
SUMMARY:Girls Basketball Game vs. Sacred Heart
DESCRIPTION:
URL:https://www.watersideschool.org/event/girls-basketball-4th-5th-grade-17/
END:VEVENT
BEGIN:VEVENT
DTSTART;TZID=America/New_York:20240206T161500
DTEND;TZID=America/New_York:20240206T173000
DTSTAMP:20260419T151231
CREATED:20240102T191706Z
LAST-MODIFIED:20240102T191706Z
UID:3408-1707236100-1707240600@www.watersideschool.org
SUMMARY:Arts & Crafts Club Grades JK - 5
DESCRIPTION:
URL:https://www.watersideschool.org/event/arts-crafts-club-grades-jk-5-9/
END:VEVENT
BEGIN:VEVENT
DTSTART;TZID=America/New_York:20240207T160000
DTEND;TZID=America/New_York:20240207T173000
DTSTAMP:20260419T151231
CREATED:20231222T183849Z
LAST-MODIFIED:20231222T183849Z
UID:3358-1707321600-1707327000@www.watersideschool.org
SUMMARY:Musical   Grades 3 - 5
DESCRIPTION:
URL:https://www.watersideschool.org/event/musical-grades-3-5-5/
END:VEVENT
BEGIN:VEVENT
DTSTART;TZID=America/New_York:20240207T161500
DTEND;TZID=America/New_York:20240207T173000
DTSTAMP:20260419T151231
CREATED:20240102T191745Z
LAST-MODIFIED:20240102T191745Z
UID:3409-1707322500-1707327000@www.watersideschool.org
SUMMARY:Arts & Crafts Club Grades JK - 5
DESCRIPTION:
URL:https://www.watersideschool.org/event/arts-crafts-club-grades-jk-5-10/
END:VEVENT
BEGIN:VEVENT
DTSTART;TZID=America/New_York:20240208T130000
DTEND;TZID=America/New_York:20240208T150000
DTSTAMP:20260419T151231
CREATED:20231222T193012Z
LAST-MODIFIED:20231222T193012Z
UID:3393-1707397200-1707404400@www.watersideschool.org
SUMMARY:1B Swimming
DESCRIPTION:
URL:https://www.watersideschool.org/event/1b-swimming-2/
END:VEVENT
BEGIN:VEVENT
DTSTART;TZID=America/New_York:20240208T161500
DTEND;TZID=America/New_York:20240208T173000
DTSTAMP:20260419T151231
CREATED:20231106T212815Z
LAST-MODIFIED:20231106T212815Z
UID:3257-1707408900-1707413400@www.watersideschool.org
SUMMARY:Boys Basketball 4th - 5th Grade
DESCRIPTION:
URL:https://www.watersideschool.org/event/boys-basketball-4th-5th-grade-18/
END:VEVENT
BEGIN:VEVENT
DTSTART;TZID=America/New_York:20240208T161500
DTEND;TZID=America/New_York:20240208T173000
DTSTAMP:20260419T151231
CREATED:20240102T194645Z
LAST-MODIFIED:20240102T194645Z
UID:3424-1707408900-1707413400@www.watersideschool.org
SUMMARY:Waterside Team Dance  Grades 2 - 5
DESCRIPTION:
URL:https://www.watersideschool.org/event/waterside-team-dance-grades-2-5-6/
END:VEVENT
BEGIN:VEVENT
DTSTART;TZID=America/New_York:20240210T090000
DTEND;TZID=America/New_York:20240210T101500
DTSTAMP:20260419T151231
CREATED:20231113T164155Z
LAST-MODIFIED:20240102T162513Z
UID:3270-1707555600-1707560100@www.watersideschool.org
SUMMARY:Basketball Clinic  Grades K - 1
DESCRIPTION:
URL:https://www.watersideschool.org/event/basketball-clinic-grades-k-1-5/
END:VEVENT
BEGIN:VEVENT
DTSTART;TZID=America/New_York:20240210T103000
DTEND;TZID=America/New_York:20240210T114500
DTSTAMP:20260419T151231
CREATED:20231113T164535Z
LAST-MODIFIED:20240102T162550Z
UID:3278-1707561000-1707565500@www.watersideschool.org
SUMMARY:Basketball Clinic  Grades 2- 5
DESCRIPTION:
URL:https://www.watersideschool.org/event/basketball-clinic-grades-2-5-5/
END:VEVENT
BEGIN:VEVENT
DTSTART;VALUE=DATE:20240212
DTEND;VALUE=DATE:20240213
DTSTAMP:20260419T151231
CREATED:20230705T183224Z
LAST-MODIFIED:20230705T183224Z
UID:2974-1707696000-1707782399@www.watersideschool.org
SUMMARY:NO SCHOOL Parent Teacher Conference Day
DESCRIPTION:
URL:https://www.watersideschool.org/event/no-school-parent-teacher-conference-day-2/
END:VEVENT
BEGIN:VEVENT
DTSTART;TZID=America/New_York:20240213T130000
DTEND;TZID=America/New_York:20240213T150000
DTSTAMP:20260419T151231
CREATED:20231222T185952Z
LAST-MODIFIED:20231222T185952Z
UID:3386-1707829200-1707836400@www.watersideschool.org
SUMMARY:1A Swimming
DESCRIPTION:
URL:https://www.watersideschool.org/event/1a-swimming-3/
END:VEVENT
BEGIN:VEVENT
DTSTART;TZID=America/New_York:20240213T161500
DTEND;TZID=America/New_York:20240213T173000
DTSTAMP:20260419T151231
CREATED:20231106T212305Z
LAST-MODIFIED:20231106T212305Z
UID:3249-1707840900-1707845400@www.watersideschool.org
SUMMARY:Girls Basketball 4th - 5th Grade
DESCRIPTION:
URL:https://www.watersideschool.org/event/girls-basketball-4th-5th-grade-18/
END:VEVENT
BEGIN:VEVENT
DTSTART;TZID=America/New_York:20240213T161500
DTEND;TZID=America/New_York:20240213T173000
DTSTAMP:20260419T151231
CREATED:20240108T153701Z
LAST-MODIFIED:20240108T153701Z
UID:3429-1707840900-1707845400@www.watersideschool.org
SUMMARY:Arts\, Crafts & More Club
DESCRIPTION:
URL:https://www.watersideschool.org/event/arts-crafts-more-club/
END:VEVENT
BEGIN:VEVENT
DTSTART;TZID=America/New_York:20240214T161500
DTEND;TZID=America/New_York:20240214T173000
DTSTAMP:20260419T151231
CREATED:20240108T153736Z
LAST-MODIFIED:20240108T153736Z
UID:3430-1707927300-1707931800@www.watersideschool.org
SUMMARY:Arts\, Crafts & More Club
DESCRIPTION:
URL:https://www.watersideschool.org/event/arts-crafts-more-club-2/
END:VEVENT
BEGIN:VEVENT
DTSTART;TZID=America/New_York:20240215T130000
DTEND;TZID=America/New_York:20240215T150000
DTSTAMP:20260419T151231
CREATED:20231222T193037Z
LAST-MODIFIED:20231222T193037Z
UID:3394-1708002000-1708009200@www.watersideschool.org
SUMMARY:1B Swimming
DESCRIPTION:
URL:https://www.watersideschool.org/event/1b-swimming-3/
END:VEVENT
BEGIN:VEVENT
DTSTART;TZID=America/New_York:20240215T161500
DTEND;TZID=America/New_York:20240215T173000
DTSTAMP:20260419T151231
CREATED:20240108T160441Z
LAST-MODIFIED:20240108T160711Z
UID:3439-1708013700-1708018200@www.watersideschool.org
SUMMARY:Waterside Team Dance Grades 2 - 5
DESCRIPTION:
URL:https://www.watersideschool.org/event/zumba-grades-jk-1-14/
END:VEVENT
BEGIN:VEVENT
DTSTART;VALUE=DATE:20240216
DTEND;VALUE=DATE:20240220
DTSTAMP:20260419T151231
CREATED:20230705T183332Z
LAST-MODIFIED:20230705T183332Z
UID:2975-1708041600-1708387199@www.watersideschool.org
SUMMARY:NO SCHOOL Presidents Day Weekend
DESCRIPTION:
URL:https://www.watersideschool.org/event/no-school-presidents-day-weekend-5/
END:VEVENT
BEGIN:VEVENT
DTSTART;VALUE=DATE:20240220
DTEND;VALUE=DATE:20240221
DTSTAMP:20260419T151231
CREATED:20230705T183421Z
LAST-MODIFIED:20230705T183421Z
UID:2976-1708387200-1708473599@www.watersideschool.org
SUMMARY:NO SCHOOL Professional Development Day
DESCRIPTION:
URL:https://www.watersideschool.org/event/no-school-professional-development-day-10/
END:VEVENT
BEGIN:VEVENT
DTSTART;TZID=America/New_York:20240221T153000
DTEND;TZID=America/New_York:20240221T170000
DTSTAMP:20260419T151231
CREATED:20240215T185750Z
LAST-MODIFIED:20240215T185750Z
UID:3497-1708529400-1708534800@www.watersideschool.org
SUMMARY:Girls Basketball Game vs. Sacred Heart
DESCRIPTION:@Sacred Heart
URL:https://www.watersideschool.org/event/girls-basketball-game-vs-sacred-heart/
END:VEVENT
BEGIN:VEVENT
DTSTART;TZID=America/New_York:20240221T153000
DTEND;TZID=America/New_York:20240221T170000
DTSTAMP:20260419T151231
CREATED:20240215T190001Z
LAST-MODIFIED:20240215T190255Z
UID:3498-1708529400-1708534800@www.watersideschool.org
SUMMARY:Boys Basketball Game vs. Whitby School
DESCRIPTION:@Waterside School
URL:https://www.watersideschool.org/event/boys-basketball-game-vs-whitby-school/
END:VEVENT
BEGIN:VEVENT
DTSTART;TZID=America/New_York:20240221T161500
DTEND;TZID=America/New_York:20240221T173000
DTSTAMP:20260419T151231
CREATED:20240108T153910Z
LAST-MODIFIED:20240108T153910Z
UID:3433-1708532100-1708536600@www.watersideschool.org
SUMMARY:Arts\, Crafts & More Club
DESCRIPTION:
URL:https://www.watersideschool.org/event/arts-crafts-more-club-5/
END:VEVENT
BEGIN:VEVENT
DTSTART;TZID=America/New_York:20240222T153000
DTEND;TZID=America/New_York:20240222T170000
DTSTAMP:20260419T151231
CREATED:20240208T174914Z
LAST-MODIFIED:20240208T174914Z
UID:3495-1708615800-1708621200@www.watersideschool.org
SUMMARY:Girls Basketball Game vs. GCDS
DESCRIPTION:@ Waterside School
URL:https://www.watersideschool.org/event/girls-basketball-game-vs-gcds/
END:VEVENT
BEGIN:VEVENT
DTSTART;TZID=America/New_York:20240222T161500
DTEND;TZID=America/New_York:20240222T173000
DTSTAMP:20260419T151231
CREATED:20240108T160820Z
LAST-MODIFIED:20240108T160820Z
UID:3441-1708618500-1708623000@www.watersideschool.org
SUMMARY:Waterside Team Dance Grades 2 - 5
DESCRIPTION:
URL:https://www.watersideschool.org/event/waterside-team-dance-grades-2-5-7/
END:VEVENT
END:VCALENDAR