BEGIN:VCALENDAR
VERSION:2.0
PRODID:-//Waterside School - ECPv6.15.20//NONSGML v1.0//EN
CALSCALE:GREGORIAN
METHOD:PUBLISH
X-ORIGINAL-URL:https://www.watersideschool.org
X-WR-CALDESC:Events for Waterside School
REFRESH-INTERVAL;VALUE=DURATION:PT1H
X-Robots-Tag:noindex
X-PUBLISHED-TTL:PT1H
BEGIN:VTIMEZONE
TZID:America/New_York
BEGIN:DAYLIGHT
TZOFFSETFROM:-0500
TZOFFSETTO:-0400
TZNAME:EDT
DTSTART:20210314T070000
END:DAYLIGHT
BEGIN:STANDARD
TZOFFSETFROM:-0400
TZOFFSETTO:-0500
TZNAME:EST
DTSTART:20211107T060000
END:STANDARD
BEGIN:DAYLIGHT
TZOFFSETFROM:-0500
TZOFFSETTO:-0400
TZNAME:EDT
DTSTART:20220313T070000
END:DAYLIGHT
BEGIN:STANDARD
TZOFFSETFROM:-0400
TZOFFSETTO:-0500
TZNAME:EST
DTSTART:20221106T060000
END:STANDARD
BEGIN:DAYLIGHT
TZOFFSETFROM:-0500
TZOFFSETTO:-0400
TZNAME:EDT
DTSTART:20230312T070000
END:DAYLIGHT
BEGIN:STANDARD
TZOFFSETFROM:-0400
TZOFFSETTO:-0500
TZNAME:EST
DTSTART:20231105T060000
END:STANDARD
END:VTIMEZONE
BEGIN:VEVENT
DTSTART;TZID=America/New_York:20220528T090000
DTEND;TZID=America/New_York:20220528T101500
DTSTAMP:20260420T105051
CREATED:20220401T203206Z
LAST-MODIFIED:20220401T203206Z
UID:1859-1653728400-1653732900@www.watersideschool.org
SUMMARY:Soccer Training Camp Grades JK - 2
DESCRIPTION:
URL:https://www.watersideschool.org/event/soccer-training-camp-grades-jk-2-6/
END:VEVENT
BEGIN:VEVENT
DTSTART;TZID=America/New_York:20220528T101500
DTEND;TZID=America/New_York:20220528T113000
DTSTAMP:20260420T105051
CREATED:20220401T203659Z
LAST-MODIFIED:20220401T203659Z
UID:1868-1653732900-1653737400@www.watersideschool.org
SUMMARY:Soccer Premier League Grades 2-5
DESCRIPTION:
URL:https://www.watersideschool.org/event/soccer-premier-league-grades-2-5-7/
END:VEVENT
BEGIN:VEVENT
DTSTART;VALUE=DATE:20220529
DTEND;VALUE=DATE:20220530
DTSTAMP:20260420T105051
CREATED:20210630T191126Z
LAST-MODIFIED:20210630T191126Z
UID:1571-1653782400-1653868799@www.watersideschool.org
SUMMARY:NO SCHOOL Memorial Day Weekend
DESCRIPTION:
URL:https://www.watersideschool.org/event/no-school-memorial-day-weekend-2/
END:VEVENT
BEGIN:VEVENT
DTSTART;VALUE=DATE:20220530
DTEND;VALUE=DATE:20220531
DTSTAMP:20260420T105051
CREATED:20210630T191143Z
LAST-MODIFIED:20210630T191143Z
UID:1572-1653868800-1653955199@www.watersideschool.org
SUMMARY:NO SCHOOL Memorial Day Weekend
DESCRIPTION:
URL:https://www.watersideschool.org/event/no-school-memorial-day-weekend-3/
END:VEVENT
BEGIN:VEVENT
DTSTART;VALUE=DATE:20220531
DTEND;VALUE=DATE:20220601
DTSTAMP:20260420T105051
CREATED:20210630T191209Z
LAST-MODIFIED:20210630T191209Z
UID:1573-1653955200-1654041599@www.watersideschool.org
SUMMARY:Classes Resume
DESCRIPTION:
URL:https://www.watersideschool.org/event/classes-resume-7/
END:VEVENT
BEGIN:VEVENT
DTSTART;TZID=America/New_York:20220531T133000
DTEND;TZID=America/New_York:20220531T141500
DTSTAMP:20260420T105051
CREATED:20220403T193137Z
LAST-MODIFIED:20220404T202549Z
UID:1893-1654003800-1654006500@www.watersideschool.org
SUMMARY:K Swimming
DESCRIPTION:Greenwich YMCA
URL:https://www.watersideschool.org/event/grade-1-swimming-7/
END:VEVENT
BEGIN:VEVENT
DTSTART;TZID=America/New_York:20220531T161500
DTEND;TZID=America/New_York:20220531T171500
DTSTAMP:20260420T105051
CREATED:20220404T203947Z
LAST-MODIFIED:20220404T203947Z
UID:1902-1654013700-1654017300@www.watersideschool.org
SUMMARY:Co-ed Basketball Grades 4-5
DESCRIPTION:
URL:https://www.watersideschool.org/event/co-ed-basketball-grades-4-5-8/
END:VEVENT
BEGIN:VEVENT
DTSTART;TZID=America/New_York:20220601T133000
DTEND;TZID=America/New_York:20220601T141500
DTSTAMP:20260420T105051
CREATED:20220403T192008Z
LAST-MODIFIED:20220403T192008Z
UID:1878-1654090200-1654092900@www.watersideschool.org
SUMMARY:JK Swimming
DESCRIPTION:Greenwich YMCA
URL:https://www.watersideschool.org/event/jk-swimming-7/
END:VEVENT
BEGIN:VEVENT
DTSTART;TZID=America/New_York:20220601T161500
DTEND;TZID=America/New_York:20220601T173000
DTSTAMP:20260420T105051
CREATED:20220401T201959Z
LAST-MODIFIED:20220401T201959Z
UID:1843-1654100100-1654104600@www.watersideschool.org
SUMMARY:Zumba Grades 2-5
DESCRIPTION:
URL:https://www.watersideschool.org/event/zumba-grades-2-5-3/
END:VEVENT
BEGIN:VEVENT
DTSTART;TZID=America/New_York:20220602T133000
DTEND;TZID=America/New_York:20220602T141500
DTSTAMP:20260420T105051
CREATED:20220403T192512Z
LAST-MODIFIED:20220404T202523Z
UID:1885-1654176600-1654179300@www.watersideschool.org
SUMMARY:Grade 1 Swimming
DESCRIPTION:Greenwich YMCA
URL:https://www.watersideschool.org/event/k-swimming-6/
END:VEVENT
BEGIN:VEVENT
DTSTART;TZID=America/New_York:20220602T161400
DTEND;TZID=America/New_York:20220602T173000
DTSTAMP:20260420T105051
CREATED:20220401T201553Z
LAST-MODIFIED:20220403T192701Z
UID:1841-1654186440-1654191000@www.watersideschool.org
SUMMARY:Zumba Grades JK - 1
DESCRIPTION:
URL:https://www.watersideschool.org/event/zumba-jk-1-3/
END:VEVENT
BEGIN:VEVENT
DTSTART;TZID=America/New_York:20220602T161500
DTEND;TZID=America/New_York:20220602T171500
DTSTAMP:20260420T105051
CREATED:20220404T204531Z
LAST-MODIFIED:20220404T204531Z
UID:1912-1654186500-1654190100@www.watersideschool.org
SUMMARY:Co-ed Lacrosse Grades 4-5
DESCRIPTION:
URL:https://www.watersideschool.org/event/co-ed-lacrosse-grades-4-5-9/
END:VEVENT
BEGIN:VEVENT
DTSTART;TZID=America/New_York:20220604T090000
DTEND;TZID=America/New_York:20220604T101500
DTSTAMP:20260420T105051
CREATED:20220401T203236Z
LAST-MODIFIED:20220401T203236Z
UID:1860-1654333200-1654337700@www.watersideschool.org
SUMMARY:Soccer Training Camp Grades JK - 2
DESCRIPTION:
URL:https://www.watersideschool.org/event/soccer-training-camp-grades-jk-2-7/
END:VEVENT
BEGIN:VEVENT
DTSTART;TZID=America/New_York:20220604T101500
DTEND;TZID=America/New_York:20220604T113000
DTSTAMP:20260420T105051
CREATED:20220401T203728Z
LAST-MODIFIED:20220401T203728Z
UID:1869-1654337700-1654342200@www.watersideschool.org
SUMMARY:Soccer Premier League Grades 2-5
DESCRIPTION:
URL:https://www.watersideschool.org/event/soccer-premier-league-grades-2-5-8/
END:VEVENT
BEGIN:VEVENT
DTSTART;TZID=America/New_York:20220607T133000
DTEND;TZID=America/New_York:20220607T141500
DTSTAMP:20260420T105051
CREATED:20220403T193220Z
LAST-MODIFIED:20220404T202420Z
UID:1894-1654608600-1654611300@www.watersideschool.org
SUMMARY:K Swimming
DESCRIPTION:Greenwich YMCA
URL:https://www.watersideschool.org/event/grade-1-swimming-8/
END:VEVENT
BEGIN:VEVENT
DTSTART;TZID=America/New_York:20220608T133000
DTEND;TZID=America/New_York:20220608T141500
DTSTAMP:20260420T105051
CREATED:20220403T192042Z
LAST-MODIFIED:20220403T192042Z
UID:1879-1654695000-1654697700@www.watersideschool.org
SUMMARY:JK Swimming
DESCRIPTION:Greenwich YMCA
URL:https://www.watersideschool.org/event/jk-swimming-8/
END:VEVENT
BEGIN:VEVENT
DTSTART;TZID=America/New_York:20220609T133000
DTEND;TZID=America/New_York:20220609T141500
DTSTAMP:20260420T105051
CREATED:20220403T192547Z
LAST-MODIFIED:20220404T202456Z
UID:1886-1654781400-1654784100@www.watersideschool.org
SUMMARY:Grade 1 Swimming
DESCRIPTION:Greenwich YMCA
URL:https://www.watersideschool.org/event/k-swimming-7/
END:VEVENT
BEGIN:VEVENT
DTSTART;TZID=America/New_York:20220611T120000
DTEND;TZID=America/New_York:20220611T143000
DTSTAMP:20260420T105051
CREATED:20220503T122532Z
LAST-MODIFIED:20220503T122532Z
UID:2005-1654948800-1654957800@www.watersideschool.org
SUMMARY:Alumni BBQ
DESCRIPTION:
URL:https://www.watersideschool.org/event/alumni-bbq-2/
END:VEVENT
BEGIN:VEVENT
DTSTART;VALUE=DATE:20220615
DTEND;VALUE=DATE:20220616
DTSTAMP:20260420T105051
CREATED:20210630T191257Z
LAST-MODIFIED:20210630T191257Z
UID:1574-1655251200-1655337599@www.watersideschool.org
SUMMARY:Last Full Day of School for Students
DESCRIPTION:
URL:https://www.watersideschool.org/event/last-full-day-of-school-for-students-2/
END:VEVENT
BEGIN:VEVENT
DTSTART;TZID=America/New_York:20220615T083000
DTEND;TZID=America/New_York:20220615T100000
DTSTAMP:20260420T105051
CREATED:20210630T191348Z
LAST-MODIFIED:20210630T191348Z
UID:1575-1655281800-1655287200@www.watersideschool.org
SUMMARY:Stepping Up Ceremony for JK & K
DESCRIPTION:
URL:https://www.watersideschool.org/event/stepping-up-ceremony-for-jk-k/
END:VEVENT
BEGIN:VEVENT
DTSTART;TZID=America/New_York:20220615T180000
DTEND;TZID=America/New_York:20220615T200000
DTSTAMP:20260420T105051
CREATED:20220504T171018Z
LAST-MODIFIED:20220504T171018Z
UID:2011-1655316000-1655323200@www.watersideschool.org
SUMMARY:5th Grade Awards Dinner
DESCRIPTION:at Watersdie School
URL:https://www.watersideschool.org/event/5th-grade-awards-dinner/
END:VEVENT
BEGIN:VEVENT
DTSTART;VALUE=DATE:20220616
DTEND;VALUE=DATE:20220617
DTSTAMP:20260420T105051
CREATED:20210630T191416Z
LAST-MODIFIED:20210630T191416Z
UID:1576-1655337600-1655423999@www.watersideschool.org
SUMMARY:NO SCHOOL FOR STUDENTS
DESCRIPTION:
URL:https://www.watersideschool.org/event/no-school-for-students-2/
END:VEVENT
BEGIN:VEVENT
DTSTART;TZID=America/New_York:20220617T100000
DTEND;TZID=America/New_York:20220617T123000
DTSTAMP:20260420T105051
CREATED:20210630T191530Z
LAST-MODIFIED:20210630T191530Z
UID:1577-1655460000-1655469000@www.watersideschool.org
SUMMARY:Graduation & Stepping Up Ceremony
DESCRIPTION:1st – 5th Grades
URL:https://www.watersideschool.org/event/graduation-stepping-up-ceremony/
END:VEVENT
BEGIN:VEVENT
DTSTART;TZID=America/New_York:20220620T080000
DTEND;TZID=America/New_York:20220620T170000
DTSTAMP:20260420T105051
CREATED:20220426T184147Z
LAST-MODIFIED:20220426T184147Z
UID:1974-1655712000-1655744400@www.watersideschool.org
SUMMARY:Vacation Sports Camp
DESCRIPTION:
URL:https://www.watersideschool.org/event/vacation-sports-camp/
END:VEVENT
BEGIN:VEVENT
DTSTART;TZID=America/New_York:20220621T080000
DTEND;TZID=America/New_York:20220621T170000
DTSTAMP:20260420T105051
CREATED:20220426T184207Z
LAST-MODIFIED:20220426T184207Z
UID:1975-1655798400-1655830800@www.watersideschool.org
SUMMARY:Vacation Sports Camp
DESCRIPTION:
URL:https://www.watersideschool.org/event/vacation-sports-camp-2/
END:VEVENT
BEGIN:VEVENT
DTSTART;TZID=America/New_York:20220622T080000
DTEND;TZID=America/New_York:20220622T170000
DTSTAMP:20260420T105051
CREATED:20220426T184225Z
LAST-MODIFIED:20220426T184225Z
UID:1976-1655884800-1655917200@www.watersideschool.org
SUMMARY:Vacation Sports Camp
DESCRIPTION:
URL:https://www.watersideschool.org/event/vacation-sports-camp-3/
END:VEVENT
BEGIN:VEVENT
DTSTART;TZID=America/New_York:20220623T080000
DTEND;TZID=America/New_York:20220623T170000
DTSTAMP:20260420T105051
CREATED:20220426T184242Z
LAST-MODIFIED:20220426T184242Z
UID:1977-1655971200-1656003600@www.watersideschool.org
SUMMARY:Vacation Sports Camp
DESCRIPTION:
URL:https://www.watersideschool.org/event/vacation-sports-camp-4/
END:VEVENT
BEGIN:VEVENT
DTSTART;TZID=America/New_York:20220624T080000
DTEND;TZID=America/New_York:20220624T170000
DTSTAMP:20260420T105051
CREATED:20220426T184302Z
LAST-MODIFIED:20220426T184302Z
UID:1978-1656057600-1656090000@www.watersideschool.org
SUMMARY:Vacation Sports Camp
DESCRIPTION:
URL:https://www.watersideschool.org/event/vacation-sports-camp-5/
END:VEVENT
BEGIN:VEVENT
DTSTART;TZID=America/New_York:20220627T080000
DTEND;TZID=America/New_York:20220627T170000
DTSTAMP:20260420T105051
CREATED:20220426T184319Z
LAST-MODIFIED:20220426T184319Z
UID:1979-1656316800-1656349200@www.watersideschool.org
SUMMARY:Vacation Sports Camp
DESCRIPTION:
URL:https://www.watersideschool.org/event/vacation-sports-camp-6/
END:VEVENT
BEGIN:VEVENT
DTSTART;TZID=America/New_York:20220628T080000
DTEND;TZID=America/New_York:20220628T170000
DTSTAMP:20260420T105051
CREATED:20220426T184339Z
LAST-MODIFIED:20220426T184339Z
UID:1980-1656403200-1656435600@www.watersideschool.org
SUMMARY:Vacation Sports Camp
DESCRIPTION:
URL:https://www.watersideschool.org/event/vacation-sports-camp-7/
END:VEVENT
END:VCALENDAR