BEGIN:VCALENDAR
VERSION:2.0
PRODID:-//Waterside School - ECPv6.15.20//NONSGML v1.0//EN
CALSCALE:GREGORIAN
METHOD:PUBLISH
X-ORIGINAL-URL:https://www.watersideschool.org
X-WR-CALDESC:Events for Waterside School
REFRESH-INTERVAL;VALUE=DURATION:PT1H
X-Robots-Tag:noindex
X-PUBLISHED-TTL:PT1H
BEGIN:VTIMEZONE
TZID:America/New_York
BEGIN:DAYLIGHT
TZOFFSETFROM:-0500
TZOFFSETTO:-0400
TZNAME:EDT
DTSTART:20230312T070000
END:DAYLIGHT
BEGIN:STANDARD
TZOFFSETFROM:-0400
TZOFFSETTO:-0500
TZNAME:EST
DTSTART:20231105T060000
END:STANDARD
BEGIN:DAYLIGHT
TZOFFSETFROM:-0500
TZOFFSETTO:-0400
TZNAME:EDT
DTSTART:20240310T070000
END:DAYLIGHT
BEGIN:STANDARD
TZOFFSETFROM:-0400
TZOFFSETTO:-0500
TZNAME:EST
DTSTART:20241103T060000
END:STANDARD
BEGIN:DAYLIGHT
TZOFFSETFROM:-0500
TZOFFSETTO:-0400
TZNAME:EDT
DTSTART:20250309T070000
END:DAYLIGHT
BEGIN:STANDARD
TZOFFSETFROM:-0400
TZOFFSETTO:-0500
TZNAME:EST
DTSTART:20251102T060000
END:STANDARD
END:VTIMEZONE
BEGIN:VEVENT
DTSTART;TZID=America/New_York:20241112T161500
DTEND;TZID=America/New_York:20241112T173000
DTSTAMP:20260419T175757
CREATED:20241029T183620Z
LAST-MODIFIED:20241029T183620Z
UID:3807-1731428100-1731432600@www.watersideschool.org
SUMMARY:Homework Club (1st-5th)
DESCRIPTION:
URL:https://www.watersideschool.org/event/homework-club-1st-5th-12/
END:VEVENT
BEGIN:VEVENT
DTSTART;TZID=America/New_York:20241112T161500
DTEND;TZID=America/New_York:20241112T173000
DTSTAMP:20260419T175757
CREATED:20241029T185110Z
LAST-MODIFIED:20241029T185110Z
UID:3808-1731428100-1731432600@www.watersideschool.org
SUMMARY:Art Club
DESCRIPTION:
URL:https://www.watersideschool.org/event/art-club/
END:VEVENT
BEGIN:VEVENT
DTSTART;TZID=America/New_York:20241113T161500
DTEND;TZID=America/New_York:20241113T173000
DTSTAMP:20260419T175757
CREATED:20241029T185209Z
LAST-MODIFIED:20241029T185209Z
UID:3809-1731514500-1731519000@www.watersideschool.org
SUMMARY:Mrs. Moore Aftercare (JK-K)
DESCRIPTION:
URL:https://www.watersideschool.org/event/mrs-moore-aftercare-jk-k-26/
END:VEVENT
BEGIN:VEVENT
DTSTART;TZID=America/New_York:20241113T161500
DTEND;TZID=America/New_York:20241113T173000
DTSTAMP:20260419T175757
CREATED:20241029T185234Z
LAST-MODIFIED:20241029T185234Z
UID:3810-1731514500-1731519000@www.watersideschool.org
SUMMARY:Homework Club (1st-5th)
DESCRIPTION:
URL:https://www.watersideschool.org/event/homework-club-1st-5th-13/
END:VEVENT
BEGIN:VEVENT
DTSTART;TZID=America/New_York:20241113T161500
DTEND;TZID=America/New_York:20241113T173000
DTSTAMP:20260419T175757
CREATED:20241029T185250Z
LAST-MODIFIED:20241029T185250Z
UID:3811-1731514500-1731519000@www.watersideschool.org
SUMMARY:Musical
DESCRIPTION:
URL:https://www.watersideschool.org/event/musical-3/
END:VEVENT
BEGIN:VEVENT
DTSTART;TZID=America/New_York:20241114T120000
DTEND;TZID=America/New_York:20241114T150000
DTSTAMP:20260419T175757
CREATED:20241003T193020Z
LAST-MODIFIED:20241003T193020Z
UID:3712-1731585600-1731596400@www.watersideschool.org
SUMMARY:3rd Grade Swim Lesson
DESCRIPTION:
URL:https://www.watersideschool.org/event/3rd-grade-swim-lesson-6/
END:VEVENT
BEGIN:VEVENT
DTSTART;TZID=America/New_York:20241114T161500
DTEND;TZID=America/New_York:20241114T173000
DTSTAMP:20260419T175757
CREATED:20241029T185335Z
LAST-MODIFIED:20241029T185335Z
UID:3812-1731600900-1731605400@www.watersideschool.org
SUMMARY:Mrs. Moore Aftercare (K-JK)
DESCRIPTION:
URL:https://www.watersideschool.org/event/mrs-moore-aftercare-k-jk/
END:VEVENT
BEGIN:VEVENT
DTSTART;TZID=America/New_York:20241114T161500
DTEND;TZID=America/New_York:20241114T173000
DTSTAMP:20260419T175757
CREATED:20241029T185418Z
LAST-MODIFIED:20241029T185418Z
UID:3813-1731600900-1731605400@www.watersideschool.org
SUMMARY:Homework Club (1st-5th)
DESCRIPTION:
URL:https://www.watersideschool.org/event/homework-club-1st-5th-14/
END:VEVENT
BEGIN:VEVENT
DTSTART;TZID=America/New_York:20241114T161500
DTEND;TZID=America/New_York:20241114T173000
DTSTAMP:20260419T175757
CREATED:20241030T150019Z
LAST-MODIFIED:20241030T150019Z
UID:3837-1731600900-1731605400@www.watersideschool.org
SUMMARY:Soccer Game vs Volunteers @Waterside
DESCRIPTION:
URL:https://www.watersideschool.org/event/soccer-game-vs-volunteers-waterside/
END:VEVENT
BEGIN:VEVENT
DTSTART;TZID=America/New_York:20241115T030000
DTEND;TZID=America/New_York:20241115T163000
DTSTAMP:20260419T175757
CREATED:20241030T145934Z
LAST-MODIFIED:20241030T145934Z
UID:3835-1731639600-1731688200@www.watersideschool.org
SUMMARY:Soccer Game vs Faculty @ Waterside
DESCRIPTION:
URL:https://www.watersideschool.org/event/soccer-game-vs-faculty-waterside/
END:VEVENT
BEGIN:VEVENT
DTSTART;TZID=America/New_York:20241115T161500
DTEND;TZID=America/New_York:20241115T173000
DTSTAMP:20260419T175757
CREATED:20241029T185527Z
LAST-MODIFIED:20241029T185527Z
UID:3814-1731687300-1731691800@www.watersideschool.org
SUMMARY:Homework Club (1st-5th)
DESCRIPTION:
URL:https://www.watersideschool.org/event/homework-club-1st-5th-15/
END:VEVENT
BEGIN:VEVENT
DTSTART;TZID=America/New_York:20241115T161500
DTEND;TZID=America/New_York:20241115T173000
DTSTAMP:20260419T175757
CREATED:20241029T185601Z
LAST-MODIFIED:20241029T185601Z
UID:3815-1731687300-1731691800@www.watersideschool.org
SUMMARY:Mrs. Moore Aftercare (JK-K)
DESCRIPTION:
URL:https://www.watersideschool.org/event/mrs-moore-aftercare-jk-k-27/
END:VEVENT
BEGIN:VEVENT
DTSTART;TZID=America/New_York:20241116T083000
DTEND;TZID=America/New_York:20241116T100000
DTSTAMP:20260419T175757
CREATED:20241004T134446Z
LAST-MODIFIED:20241004T134512Z
UID:3744-1731745800-1731751200@www.watersideschool.org
SUMMARY:ISEE PREP
DESCRIPTION:
URL:https://www.watersideschool.org/event/isee-prep-20/
END:VEVENT
BEGIN:VEVENT
DTSTART;TZID=America/New_York:20241118T161500
DTEND;TZID=America/New_York:20241118T173000
DTSTAMP:20260419T175757
CREATED:20241004T133236Z
LAST-MODIFIED:20241004T133236Z
UID:3734-1731946500-1731951000@www.watersideschool.org
SUMMARY:Side Notes
DESCRIPTION:
URL:https://www.watersideschool.org/event/side-notes-5/
END:VEVENT
BEGIN:VEVENT
DTSTART;TZID=America/New_York:20241118T161500
DTEND;TZID=America/New_York:20241118T173000
DTSTAMP:20260419T175757
CREATED:20241030T140623Z
LAST-MODIFIED:20241030T140623Z
UID:3819-1731946500-1731951000@www.watersideschool.org
SUMMARY:Mrs. Moore Aftercare (JK-K)
DESCRIPTION:
URL:https://www.watersideschool.org/event/mrs-moore-aftercare-jk-k-28/
END:VEVENT
BEGIN:VEVENT
DTSTART;TZID=America/New_York:20241118T161500
DTEND;TZID=America/New_York:20241118T173000
DTSTAMP:20260419T175757
CREATED:20241030T141743Z
LAST-MODIFIED:20241030T141743Z
UID:3820-1731946500-1731951000@www.watersideschool.org
SUMMARY:Homework Club (1st-5th)
DESCRIPTION:
URL:https://www.watersideschool.org/event/homework-club-1st-5th-16/
END:VEVENT
BEGIN:VEVENT
DTSTART;TZID=America/New_York:20241119T120000
DTEND;TZID=America/New_York:20241119T150000
DTSTAMP:20260419T175757
CREATED:20241003T192018Z
LAST-MODIFIED:20241003T192018Z
UID:3706-1732017600-1732028400@www.watersideschool.org
SUMMARY:1st Grade Swim Lesson
DESCRIPTION:
URL:https://www.watersideschool.org/event/1st-grade-swim-lesson-7/
END:VEVENT
BEGIN:VEVENT
DTSTART;TZID=America/New_York:20241119T161500
DTEND;TZID=America/New_York:20241119T173000
DTSTAMP:20260419T175757
CREATED:20241030T141817Z
LAST-MODIFIED:20241030T141817Z
UID:3821-1732032900-1732037400@www.watersideschool.org
SUMMARY:Homework Club (1st-5th)
DESCRIPTION:
URL:https://www.watersideschool.org/event/homework-club-1st-5th-17/
END:VEVENT
BEGIN:VEVENT
DTSTART;TZID=America/New_York:20241119T161500
DTEND;TZID=America/New_York:20241119T173000
DTSTAMP:20260419T175757
CREATED:20241030T141906Z
LAST-MODIFIED:20241030T141906Z
UID:3822-1732032900-1732037400@www.watersideschool.org
SUMMARY:Mrs. Moore Aftercare
DESCRIPTION:
URL:https://www.watersideschool.org/event/mrs-moore-aftercare-31/
END:VEVENT
BEGIN:VEVENT
DTSTART;TZID=America/New_York:20241120T161500
DTEND;TZID=America/New_York:20241120T173000
DTSTAMP:20260419T175757
CREATED:20241030T142255Z
LAST-MODIFIED:20241030T142255Z
UID:3823-1732119300-1732123800@www.watersideschool.org
SUMMARY:Mrs. Moore Aftercare
DESCRIPTION:
URL:https://www.watersideschool.org/event/mrs-moore-aftercare-32/
END:VEVENT
BEGIN:VEVENT
DTSTART;TZID=America/New_York:20241120T161500
DTEND;TZID=America/New_York:20241120T173000
DTSTAMP:20260419T175757
CREATED:20241030T142319Z
LAST-MODIFIED:20241030T142319Z
UID:3824-1732119300-1732123800@www.watersideschool.org
SUMMARY:Homework Club (1st-5th)
DESCRIPTION:
URL:https://www.watersideschool.org/event/homework-club-1st-5th-18/
END:VEVENT
BEGIN:VEVENT
DTSTART;TZID=America/New_York:20241120T161500
DTEND;TZID=America/New_York:20241120T173000
DTSTAMP:20260419T175757
CREATED:20241030T142338Z
LAST-MODIFIED:20241030T142338Z
UID:3825-1732119300-1732123800@www.watersideschool.org
SUMMARY:Musical
DESCRIPTION:
URL:https://www.watersideschool.org/event/musical-4/
END:VEVENT
BEGIN:VEVENT
DTSTART;TZID=America/New_York:20241121T120000
DTEND;TZID=America/New_York:20241121T150000
DTSTAMP:20260419T175757
CREATED:20241003T193111Z
LAST-MODIFIED:20241003T193111Z
UID:3713-1732190400-1732201200@www.watersideschool.org
SUMMARY:3rd Grade Swim Lesson
DESCRIPTION:
URL:https://www.watersideschool.org/event/3rd-grade-swim-lesson-7/
END:VEVENT
BEGIN:VEVENT
DTSTART;TZID=America/New_York:20241121T161500
DTEND;TZID=America/New_York:20241121T173000
DTSTAMP:20260419T175757
CREATED:20241030T142437Z
LAST-MODIFIED:20241030T142437Z
UID:3826-1732205700-1732210200@www.watersideschool.org
SUMMARY:Mrs. Moore Aftercare (JK-K)
DESCRIPTION:
URL:https://www.watersideschool.org/event/mrs-moore-aftercare-jk-k-29/
END:VEVENT
BEGIN:VEVENT
DTSTART;TZID=America/New_York:20241121T161500
DTEND;TZID=America/New_York:20241121T173000
DTSTAMP:20260419T175757
CREATED:20241030T142818Z
LAST-MODIFIED:20241030T142818Z
UID:3827-1732205700-1732210200@www.watersideschool.org
SUMMARY:Homework Club (1st-5th)
DESCRIPTION:
URL:https://www.watersideschool.org/event/homework-club-1st-5th-19/
END:VEVENT
BEGIN:VEVENT
DTSTART;TZID=America/New_York:20241122T080000
DTEND;TZID=America/New_York:20241122T170000
DTSTAMP:20260419T175757
CREATED:20241030T145324Z
LAST-MODIFIED:20241030T145324Z
UID:3829-1732262400-1732294800@www.watersideschool.org
SUMMARY:Mrs. Moore Aftercare (JK-K)
DESCRIPTION:
URL:https://www.watersideschool.org/event/mrs-moore-aftercare-jk-k-30/
END:VEVENT
BEGIN:VEVENT
DTSTART;TZID=America/New_York:20241122T120000
DTEND;TZID=America/New_York:20241122T130000
DTSTAMP:20260419T175757
CREATED:20241030T150645Z
LAST-MODIFIED:20241030T150645Z
UID:3838-1732276800-1732280400@www.watersideschool.org
SUMMARY:All-School Thanksgiving Potluck Lunch
DESCRIPTION:
URL:https://www.watersideschool.org/event/all-school-thanksgiving-potluck-lunch/
END:VEVENT
BEGIN:VEVENT
DTSTART;TZID=America/New_York:20241122T161500
DTEND;TZID=America/New_York:20241122T173000
DTSTAMP:20260419T175757
CREATED:20241030T144817Z
LAST-MODIFIED:20241030T144817Z
UID:3828-1732292100-1732296600@www.watersideschool.org
SUMMARY:Homework Club (1st-5th)
DESCRIPTION:
URL:https://www.watersideschool.org/event/homework-club-1st-5th-20/
END:VEVENT
BEGIN:VEVENT
DTSTART;VALUE=DATE:20241123
DTEND;VALUE=DATE:20241124
DTSTAMP:20260419T175757
CREATED:20241004T140921Z
LAST-MODIFIED:20241004T140921Z
UID:3745-1732320000-1732406399@www.watersideschool.org
SUMMARY:NO ISEE PREP
DESCRIPTION:ISEE PREP is canceled on Saturday November 23 and Saturday\, November 30\, due to Thanksgiving Vacation.
URL:https://www.watersideschool.org/event/no-isee-prep/
END:VEVENT
BEGIN:VEVENT
DTSTART;TZID=America/New_York:20241125T080000
DTEND;TZID=America/New_York:20241129T170000
DTSTAMP:20260419T175757
CREATED:20240724T200226Z
LAST-MODIFIED:20240724T200226Z
UID:3642-1732521600-1732899600@www.watersideschool.org
SUMMARY:Thanksgiving Break - NO SCHOOL
DESCRIPTION:
URL:https://www.watersideschool.org/event/thanksgiving-break-no-school/
END:VEVENT
END:VCALENDAR